BEGIN:VCALENDAR
VERSION:2.0
PRODID:-//hacksw/handcal//NONSGML v1.0//EN
BEGIN:VEVENT
SUMMARY:Canteleu Piscine
UID:bfee61e6-a42b-4ae3-b444-72f93c161f45
DTSTART:20260426T070000Z
DTEND:20260426T100000Z
LOCATION:Localisation piscine de Canteleu 76380 CANTELEU
CATEGORIES:Sportif
STATUS:
URL;VALUE=URI:https://www.vttrouen.com/evenements/2026/04/26/canteleu-piscine-2444629
END:VEVENT
END:VCALENDAR
