BEGIN:VCALENDAR
VERSION:2.0
PRODID:-//hacksw/handcal//NONSGML v1.0//EN
BEGIN:VEVENT
SUMMARY:Foret de La Londe (Alain)
UID:4c179e64-d84a-45a8-8cae-a2076d5630e7
DTSTART:20260419T070000Z
DTEND:20260419T103000Z
LOCATION:Localisation Parking des Fontenelles 76500 Orival
CATEGORIES:Sportif
STATUS:
DESCRIPTION:<p>Un lieu de depart inhabituel pour profiter pleinement
 des singles de la Foret de La Londe...environ 30km et 620 de
 D+....peut etre quelques surprises sur la trace (arbres tombes etc...
 pas roule depuis longtemps sur certaines parties de la trace)</p>
URL;VALUE=URI:https://www.vttrouen.com/evenements/2026/04/19/foret-de-la-londe-alain-2442068
END:VEVENT
END:VCALENDAR
