BEGIN:VCALENDAR
VERSION:2.0
PRODID:-//hacksw/handcal//NONSGML v1.0//EN
BEGIN:VEVENT
SUMMARY:Quincampoix by Claudine et Bob
UID:3c0e1264-61b5-4e1b-83f8-74689c3a5d6c
DTSTART:20260414T120000Z
DTEND:20260414T151500Z
LOCATION:Localisation parking du cabinet medical 76230 quincampoix
CATEGORIES:Sportif
STATUS:
URL;VALUE=URI:https://www.vttrouen.com/evenements/2026/04/14/quincampoix-by-claudine-et-bob-2440421
END:VEVENT
END:VCALENDAR
